Workbook
Name ALL: '[1]F9 EjecMetasDx'!#REF!
Name ALL: '[1]F9 EjecMetasDx'!#REF!
Name ALL_MESES: '[2]F9 EjecMetasDx'!#REF!
Name ALL_MESES: '[2]F9 EjecMetasDx'!#REF!
Name ALL_MESES: '[2]F9 EjecMetasDx'!#REF!
Name ALL_MESES: '[2]F9 EjecMetasDx'!#REF!
Name eeddssa: '[2]F9 EjecMetasDx'!#REF!
Name eeddssa: '[2]F9 EjecMetasDx'!#REF!
Name K: '[2]F9 EjecMetasDx'!#REF!
Name K: '[2]F9 EjecMetasDx'!#REF!
Name K: '[2]F9 EjecMetasDx'!#REF!
Name kk: '[1]F9 EjecMetasDx'!#REF!
Name kk: '[1]F9 EjecMetasDx'!#REF!
Name S: '[2]F9 EjecMetasDx'!#REF!
Name S: '[2]F9 EjecMetasDx'!#REF!

Sheet F1 GENERALIDADES
B1: PLAN DE SALUD LOCAL 2019
B3: GENERALIDADES
B5: DENOMINACION, UBICACIÓN Y CONFORMACION
B7: NOMBRE DE LA ASOCIACION CLAS
B8: GERESA
B9: RED
B10: MICRO RED DE SALUD
B11: NOMBRE DEL GERENTE DEL CLAS/JEFE DE MICRORRED
B12: ASOCIACION CLAS
B13: PROVINCIA
B14: DISTRITO
B15: DIRECCIÓN
... B26: DATOS DE LOS ESTABLECIMIENTOS DE SALUD QUE CONFORMAN LA CLAS
B28: N° | C28: NIVEL DE CATEGORIA | D28: NOMBRE DEL ESTABLECIMIENTO (Empezar por el Establecimiento SEDE de la CLAS) | E28: PROVINCIA | F28: DISTRITO | G28: HORARIO DE ATENCION (De …… Hasta ….)* | H28: DIAS DE ATENCION | I28: Profesión ú Ocupación del jefe/ Responsable del EESS | J28: Tiempo en el cargo de Jefe/Responsable del ES (años/meses) | K28: POBLACION TOTAL SEGÚN INEI (por cada ES)
H29: L,M,M,J,V,S,D | K29: 1
K30: 1
K31: 1
K33: 1
B37: TOTAL | K37: =SUM(K29:K36) -> 4
B39: * En formato 24 horas, incluir dias de la semana
B40: ** Poblacion Total INEI por todos los prestadores
B41: El encabezamiento del listado corresponde al establecimiento de mayor complejidad y sede de la micro red

Sheet F2 UBICACIÓN GEOGRÁFICA 
B2: UBICACIÓN GEOGRAFICA
B4: MAPA DE RELACION PROVINCIAL Y DISTRITAL , MEDIOS DE COMUNICACIÓN Y RED ASISTENCIAL
B6: ESTABLECIMIENTO | C6: ALTITUD m.s.n.m. | D6: SUPERFICIE km2 | E6: POBLACION hab. | F6: DENSIDAD hab/km2
E7: 4
E8: 5
E10: 10
B15: TOTAL | E15: =SUM(E7:E14) -> 19
B18: ESTABLECIMIENTO | C18: MEDIOS DE COMUNICACIÓN
C19: TERRESTRE | D19: TELEFONO | E19: INTERNET
B30: RED ASISTENCIAL
B31: DISTRITO | C31: CENTRO ASISTENCIAL | E31: INSTITUCION A LA QUE PERTENECE
B41: NOTA: Red Asistencial: Considerar a todos los establecimientos del Gobierno Regional, Essalud, Municipalidades,privados, (públicos y provados)del ámbito de la Microrred.
B43: MAPA DE UBICACIÓN DE LOS ESTABLECIMIENTOS DE SALUD

Sheet F3 MARCO ESTRATÉGICO 
B2: MARCO ESTRATÉGICO
B4: OBJETIVOS DEL MILENIO
B5: 1. Erradicar la pobreza extrema y el hambre FIN DE LA POBREZA
B6: 2. Lograr la enseñanza primaria universal EDUCACION DE CALIDAD
B7: 3. Promover la igualdad entre los géneros y la autonomía de la mujer IGUALDAD DE GENERO
B8: 4. Reducir la mortalidad infantil PAZ, JUSTICIA E INSTITUCIONES SÓLIDAS
B9: 5. mejorar la Salud materna
B10: 6. Combatir el VIH/SIDA el paludismo y otras enfermedades
B11: 7. Garantizar la sostenibilidad del medio ambiente
B12: 8. Fomentar una asociación mundial para el desarrollo.
B13: FUNCIONES ESCENCIALES DE SALUD PUBLICA
B14: a. Seguimiento, evaluación y análisis de la situación de salud
... B72: "Desarrollar la protección social de la salud de la población regional dando prioridad a la expuesta a mayor riesgo, cumpliendo su rol rector en el Sector, liderando los procesos de reforma, fortaleciendo l capacidad de respuesta en los servicos de salud ofertados integralmente, con calidad y pertinencia cultural y científica, promoviendo una cultura de la salud y organizacionalmente emprendedora, y el cultivo de los valores de amor al prójimo, solidaridad y equidad."

Sheet F4 POBLACIÓN 
B1: DIAGNOSTICO SITUACIONAL
B3: CARACTERISTICAS DE LA POBLACIÓN
B5: INDICADORES DEMOGRAFICOS
B7: GRUPO ETAREO | C7: COMPOSICIÓN | D7: N° HOMBRES | E7: % | F7: N° MUJERES | G7: % | H7: TOTAL
B8: NIÑO | C8: R.N. 0-28 días | D8: 34 | E8: =D8*1/D20 -> 0.3908046 | F8: 34 | G8: =F8*1/F20 -> 0.22516556 | H8: =D8+F8 -> 68
C9: > 28 días Menor de 1 año | D9: 25 | E9: =D9*1/D20 -> 0.28735632 | F9: 25 | G9: =F9*1/F20 -> 0.16556291 | H9: =SUM(D9:D13)+F9:F13 -> 78
C10: De 1 año | D10: 28 | E10: =D10*1/D20 -> 0.32183908 | F10: 28 | G10: =F10*1/F20 -> 0.18543046
C11: De 2 a 4 años | E11: =D11*1/D20 -> 0 | G11: =F11*1/F20 -> 0
C12: De 5 a 9 años | E12: =D12*1/D20 -> 0 | G12: =F12*1/F20 -> 0
C13: De 10 a 11 años | E13: =D13*1/D20 -> 0 | G13: =F13*1/F20 -> 0
B14: ADOLESCENTE | C14: De 12 a 14 años | E14: =D14*1/D20 -> 0 | G14: =F14*1/F20 -> 0 | H14: =SUM(D14:D15)+F14:F15 -> 0
C15: De 15 a 17 años | E15: =D15*1/D20 -> 0 | F15: 15 | G15: =F15*1/F20 -> 0.099337748
B16: JOVEN | C16: De 18 a 29 años | E16: =D16*1/D20 -> 0 | F16: 20 | G16: =F16*1/F20 -> 0.13245033 | H16: =D16+F16 -> 20
B17: ADULTO | C17: De 30 a 44 años | E17: =D17*1/D20 -> 0 | F17: 14 | G17: =F17*1/F20 -> 0.092715232 | H17: =SUM(D17:D18)+F17:F18 -> 14
C18: De 45 a 59 años | E18: =D18*1/D20 -> 0 | F18: 15 | G18: =F18*1/F20 -> 0.099337748
B19: ADULTO MAYOR | C19: De 60 a mas años | E19: =D19*1/D20 -> 0 | G19: =F19*1/F20 -> 0 | H19: =D19+F19 -> 0
B20: TOTAL | D20: =SUM(D8:D19) -> 87 | E20: =SUM(E8:E19) -> 1 | F20: =SUM(F8:F19) -> 151 | G20: =SUM(G8:G19) -> 1 | H20: =SUM(H8:H19) -> 180
B22: MUJER | C22: MEF | D22: =SUM(F15:F17) -> 49 | E22: =D22*1/H20 -> 0.27222222 | N22: AQUÍ COLOCAR POBLACIÓN TOTAL SEGÚN REQUERIDO
C23: GESTANTES | E23: =D23*1/H20 -> 0
B24: * Debe corresponder a datos oficiales del INEI o censo validado por el INEI
B25: Considerar el índice de masculinidad regional según Estadística e Informática de la Geresa 2009. Mujeres 50.2% y Hombres 49.8% (siempre que no cuenten con datos locales | J25: POBLACIONAL 2019
B27: B. PIRAMIDE POBLACIONAL SEGÚN SEXO | K27: MASCULINO | M27: FEMENINO | O27: TOTAL
K28: N° | L28: % | M28: N° | N28: %
J29: 0 - 4 a | K29: =L29*O29/100 -> 50.990551 | L29: 50.990551 | M29: =K29-O29 -> -49.009449 | N29: 49.009449 | O29: 100 | P29: 100
J30: 5 - 9 a | K30: =L30*O30/100 -> 127.89223 | L30: 51.156892 | M30: =K30-O30 -> -122.10777 | N30: 48.843108 | O30: 250
J31: 10 - 14 a | K31: =L31*O31/100 -> 0 | L31: 50.670588 | M31: =K31-O31 -> 0 | N31: 49.329412
J32: 15 -19 a | K32: =L32*O32/100 -> 0 | L32: 49.267098 | M32: =K32-O32 -> 0 | N32: 50.732902
J33: 20 - 24 a | K33: =L33*O33/100 -> 0 | L33: 48.484919 | M33: =K33-O33 -> 0 | N33: 51.515081
J34: 25 - 29 a | K34: =L34*O34/100 -> 0 | L34: 47.605405 | M34: =K34-O34 -> 0 | N34: 52.394595
J35: 30 - 34 a | K35: =L35*O35/100 -> 0 | L35: 46.283543 | M35: =K35-O35 -> 0 | N35: 53.716457
J36: 35 - 39 a | K36: =L36*O36/100 -> 0 | L36: 45.62932 | M36: =K36-O36 -> 0 | N36: 54.37068
J37: 40 - 44 a | K37: =L37*O37/100 -> 0 | L37: 45.835839 | M37: =K37-O37 -> 0 | N37: 54.164161
J38: 45 - 49 a | K38: =L38*O38/100 -> 0 | L38: 45.945188 | M38: =K38-O38 -> 0 | N38: 54.054812
J39: 50 - 54 a | K39: =L39*O39/100 -> 0 | L39: 46.207524 | M39: =K39-O39 -> 0 | N39: 53.792476
J40: 55 - 59 a | K40: =L40*O40/100 -> 0 | L40: 46.682076 | M40: =K40-O40 -> 0 | N40: 53.317924
J41: 60 - 64 a | K41: =L41*O41/100 -> 0 | L41: 47.619236 | M41: =K41-O41 -> 0 | N41: 52.380764
J42: 65 - 69 a | K42: =L42*O42/100 -> 0 | L42: 48.257705 | M42: =K42-O42 -> 0 | N42: 51.742295
... J45: 80 + a | K45: =L45*O45/100 -> 0 | L45: 43.203165 | M45: =K45-O45 -> 0 | N45: 56.796835
J46: TOTAL | K46: =SUM(K29:K45) -> 178.88278 | M46: =SUM(M29:M45) -> -171.11722 | O46: =SUM(O29:O45) -> 350

Sheet F4A POBLACIÓN 
B4: DISTRIBUCIÓN DE LA POBLACIÓN POR PRESTADORES
B5: POBLACIÓN | E5: NUMERO | G5: %
B6: A = Asignada a otros Prestadores | E6: 40 | G6: =E6*1/$E$9 -> 0.5
B7: Asignada al establecimiento B = (B1 + B2) | C7: Afiliados al SIS (B1) | E7: 30 | G7: =E7*1/$E$9 -> 0.375
C8: No afiliados al SIS (B2) | E8: 10 | G8: =E8*1/$E$9 -> 0.125
B9: TOTAL (A + B) | E9: =SUM(E6:F8) -> 80 | G9: =SUM(G6:H8) -> 1
B10: * (A) Incluye EsSALUD, FF.AA, Entidades Privadas y todas las que no sean MINSA.
B11: * (B) Equivale a la población bajo responsabilidad de la Asociación CLAS
B13: POBLACIÓN POR AREA DE RESIDENCIA Y NIVEL DE POBREZA AÑO 2019
B15: POBLACIÓN | C15: Nº | D15: % | E15: PORCENTAJE DE DISTRIBUCION DE LA POBLACION POR ESTRATOS DE POBREZA O QUINTILES
E16: I | F16: II | G16: III | H16: IV
B17: Área Urbana | C17: =0.85*'F4 POBLACIÓN '!H20 -> 153 | D17: =C17*100/'F4 POBLACIÓN '!D20 -> 175.86207 | E17: 0 | F17: 0 | G17: 0.88 | H17: 0
B18: Área Rural | C18: 0 | D18: =C18*100/'F4 POBLACIÓN '!D20 -> 0 | E18: 0 | F18: 0 | G18: 0 | H18: 0
B19: TOTAL | C19: =SUM(C17:C18) -> 153 | D19: =SUM(D17:D18) -> 175.86207 | E19: =SUM(E17:E18) -> 0 | F19: =SUM(F17:F18) -> 0 | G19: =SUM(G17:G18) -> 0.88 | H19: =SUM(H17:H18) -> 0
B20: * De acuerdo a definiciones de INEI y puede proyectarse datos para su ámbito

Sheet F5 IND. SOCIALES 
B2: INDICADORES SOCIALES
B4: A. PRESTACION DE SERVICIOS DE SALUD
B6: ESTABLECIMIENTOS DE SALUD | C6: DENOMINACION
B7: Establecimientos de Salud GERSA
B8: Establecimientos de Salud ESSALUD
B9: Establecimientos de Salud Municipales
B10: Establecimientos de Salud Privados
B11: Otros Establecimientos no incluidos
B13: B. AGENTES COMUNITARIOS DE SALUD
B15: AGENTES | C15: NUMERO
C16: EESS 1 | D16: EESS 2 | E16: EESS 3 | F16: EESS 4 | G16: EESS 5 | H16: EESS 6 | I16: EESS 7 | J16: EESS 8 | K16: EESS 9 | L16: EESS 10 | M16: EESS 11 | N16: TOTAL
B17: Parteras comunales | N17: =SUM(C17:M17) -> 0
B18: Promotores de salud | N18: =SUM(C18:M18) -> 0
B19: Pares escolares: centros educativos | N19: =SUM(C19:M19) -> 0
B20: Otros(curanderos, hueseros, comadronas, etc.) | N20: =SUM(C20:M20) -> 0
B22: C. ESTABLECIMIENTOS Y SERVICIOS QUE INFLUYEN EN LA SALUD
B24: TIPOS | C24: NUMERO
C25: EESS 1 | D25: EESS 2 | E25: EESS 3 | F25: EESS 4 | G25: EESS 5 | H25: EESS 6 | I25: EESS 7 | J25: EESS 8 | K25: EESS 9 | L25: EESS 10 | M25: EESS 11 | N25: TOTAL
B26: Tiendas y bodegas | N26: =SUM(C26:M26) -> 0
B27: Comedores y restaurantes | N27: =SUM(C27:M27) -> 0
B28: Puestos de comida ambulatoria | N28: =SUM(C28:M28) -> 0
B29: Reservorios de agua existentes | N29: =SUM(C29:M29) -> 0
B30: Fabricas que elaboren Productos Alimenticios (queso yogur ) | N30: =SUM(C30:M30) -> 0
B31: Otros | N31: =SUM(C31:M31) -> 0
B32: Fuente: censo local actualizado
B34: D. INSTITUCIONES EDUCATIVAS
B36: INSTITUCIONES EDUCATIVAS (*) | C36: N° DE CENTROS | F36: N° DE AULAS | I36: N° DE DOCENTES | L36: N° DE ALUMNOS
B37: Instituciones de educación inicial y PRONOEI
B38: Instituciones Primarias
B39: Instituciones Secundarias
B40: Instituciones de Nivel Superior (CEO…)
B41: * En el caso de colegios primario-secundarios se consignara cada nivel por separado
B42: En base a la información proporcionada por la UGEL, año 2017.
B44: ACTORES SOCIALES EN LA JURISDICCION DE LA CLAS
B46: AUTORIDADES LOCALES | C46: NOMBRES Y APELLIDOS | L46: TELEFONOS
B47: 1. ALCALDES
B48: 3. GOBERNADOR
B49: 4. TENIENTES GOBERNADORES
B50: 5. POLICIA NACIONAL DEL PERU
B52: MIEMBROS DEL CONSEJO DIRECTIVO | C52: NOMBRES Y APELLIDOS | L52: TELEFONOS
...

Sheet F6 SECTORIZACION
B2: SECTORIZACION DE LA JURISDICCION
B4: ATENCION INTEGRAL DE SALUD CON ENFOQUE EN FAMILIA Y COMUNIDAD
B5: SECTORES | C5: COMUNIDAD,ANEXO,ASOCIACION, JUNTA VECINAL | D5: NRO DE FAMILIAS | E5: INTEGRANTES DEL EQUIPO BASICO DE SALUD POR SECTOR | F5: RESPONSABLE DEL SECTOR | G5: AGENTE COMUNITARIO
B6: SECTOR I | E6: Medico: Enfermera: Obstetriz: Téc. Enfermería:
B13: SECTOR II | E13: Medico: Enfermera: Obstetriz: Téc. Enfermería:
B17: SECTOR III
B23: SECTOR IV
B30: SECTOR V | E30: Médico: Odontólogo: Enfermera: Obstetriz: Asis. Social: Téc. Enfermería:
B37: SECTOR VI
B46: SECTOR VII
B55: SECTOR VIII
B58: SECTOR IX

Sheet F7 IND. SOCIOECO. CULTURALES
A1: INDICADORES CULTURALES ECONÓMICOS
A3: Provincia | B3: Distrito | D3: Quintil de Pobreza (del distrito) | E3: Servicios Básicos por Distrito | I3: Trabajo | K3: PRINCIPALES CELEBRACIONES POR CENTRO POBLADO
C4: Centro Poblado | E4: % hogares con agua potable | F4: % hogares con desagüe | G4: % hogares con eliminación de residuos sólidos | H4: % hogares con electricidad | I4: Ocupación predominante en la población del Distrito | J4: Grupos étnico e Idiomas predominantes

Sheet F8 MORBIMORTALIDAD 
B2: INFORMACION DEL PROCESO SALUD ENFERMEDAD
B4: A. DIEZ PRIMERAS CAUSAS DE MORBILIDAD POR ETAPAS DE VIDA AÑO: 2014 - 2018
B6: N° | C6: 10 PRIMERAS CAUSAS DE MORBILIDAD GENERAL | D6: 2014 | E6: 2015 | F6: 2016 | G6: 2017 | H6: 2018
B7: 1
B8: 2 | D8: 20 | E8: 50 | F8: 67 | G8: 89 | H8: 90
B9: 3
B10: 4
B11: 5
B12: 6
B13: 7
B14: 8
B15: 9
B16: 10 | C16: OTRAS CAUSAS
C17: TOTAL | D17: =SUM(D7:D16) -> 20 | E17: =SUM(E7:E16) -> 50 | F17: =SUM(F7:F16) -> 67 | G17: =SUM(G7:G16) -> 89 | H17: =SUM(H7:H16) -> 90
C18: *Colocar en los años la cantidad en números
C20: ETAPA DE VIDA: NIÑO
B21: N° | C21: 10 PRIMERAS CAUSAS DE MORBILIDAD | D21: 2014 | E21: 2015 | F21: 2016 | G21: 2017 | H21: 2018
B22: 1
B23: 2
B24: 3
B25: 4
B26: 5
B27: 6
B28: 7
B29: 8
B30: 9
B31: 10 | C31: OTRAS CAUSAS
C32: TOTAL | D32: =SUM(D22:D31) -> 0 | E32: =SUM(E22:E31) -> 0 | F32: =SUM(F22:F31) -> 0 | G32: =SUM(G22:G31) -> 0 | H32: =SUM(H22:H31) -> 0
C33: *Colocar en los años la cantidad en números
C35: ETAPA DE VIDA: ADOLESCENTE
B36: N° | C36: 10 PRIMERAS CAUSAS DE MORBILIDAD | D36: 2014 | E36: 2015 | F36: 2016 | G36: 2017 | H36: 2018
B37: 1
B38: 2
B39: 3
B40: 4
B41: 5
B42: 6
B43: 7
B44: 8
B45: 9
...

Sheet F9 SERVICIOS PRESTADOS 
B2: SERVICIO DE ATENCIÓN PRESTADOS EN LA MICRORRED
B4: CINCO PRIMERAS CAUSAS DE ATENCIÓN DE CONSULTA EXTERNA
B5: Nº | C5: CAUSA | D5: Nº | E5: %
B6: 1 | E6: =IF($D$23=0,"-",D6/$D$23*100) -> 0
B7: 2 | E7: =IF($D$23=0,"-",D7/$D$23*100) -> 0
B8: 3 | E8: =IF($D$23=0,"-",D8/$D$23*100) -> 0
B9: 4 | E9: =IF($D$23=0,"-",D9/$D$23*100) -> 0
B10: 5 | E10: =IF($D$23=0,"-",D10/$D$23*100) -> 0
C11: OTRAS CAUSAS | E11: =IF($D$23=0,"-",D11/$D$23*100) -> 0
B12: TOTAL DE EMERGENCIAS | D12: =SUM(D6:D11) -> 0 | E12: =IF($D$23=0,"-",D12/$D$23*100) -> 0
B15: CINCO PRIMERAS CAUSAS DE ATENCIÓN DE URGENCIA
B16: Nº | C16: CAUSA | D16: Nº | E16: %
B17: 1 | D17: 24 | E17: =IF($D$23=0,"-",D17/$D$23*100) -> 22.857143
B18: 2 | D18: 56 | E18: =IF($D$23=0,"-",D18/$D$23*100) -> 53.333333
B19: 3 | D19: 10 | E19: =IF($D$23=0,"-",D19/$D$23*100) -> 9.5238095
B20: 4 | D20: 5 | E20: =IF($D$23=0,"-",D20/$D$23*100) -> 4.7619048
B21: 5 | D21: 4 | E21: =IF($D$23=0,"-",D21/$D$23*100) -> 3.8095238
C22: OTRAS CAUSAS | D22: 6 | E22: =IF($D$23=0,"-",D22/$D$23*100) -> 5.7142857
B23: TOTAL DE EMERGENCIAS | D23: =SUM(D17:D22) -> 105 | E23: =IF($D$23=0,"-",D23/$D$23*100) -> 100
B25: CINCO PRIMERAS CAUSAS DE ATENCIÓN DE EMERGENCIAS
B26: Nº | C26: CAUSA | D26: Nº | E26: %
B27: 1 | E27: =IF($D$23=0,"-",D27/$D$23*100) -> 0
B28: 2 | E28: =IF($D$23=0,"-",D28/$D$23*100) -> 0
B29: 3 | E29: =IF($D$23=0,"-",D29/$D$23*100) -> 0
B30: 4 | E30: =IF($D$23=0,"-",D30/$D$23*100) -> 0
B31: 5 | E31: =IF($D$23=0,"-",D31/$D$23*100) -> 0
C32: OTRAS CAUSAS | E32: =IF($D$23=0,"-",D32/$D$23*100) -> 0
B33: TOTAL DE EMERGENCIAS | D33: =SUM(D27:D32) -> 0 | E33: =IF($D$23=0,"-",D33/$D$23*100) -> 0
B35: CINCO PRIMERAS CAUSAS DE ATENCIÓN REFERIDAS DE LOS EE.SS. DE LA MICRO RED A HOSPITALES
B36: Nº | C36: CAUSA | D36: Nº | E36: %
B37: 1 | E37: =IF($D$23=0,"-",D37/$D$23*100) -> 0
B38: 2 | E38: =IF($D$23=0,"-",D38/$D$23*100) -> 0
B39: 3 | E39: =IF($D$23=0,"-",D39/$D$23*100) -> 0
B40: 4 | E40: =IF($D$23=0,"-",D40/$D$23*100) -> 0
B41: 5 | E41: =IF($D$23=0,"-",D41/$D$23*100) -> 0
C42: OTRAS CAUSAS | E42: =IF($D$23=0,"-",D42/$D$23*100) -> 0
B43: TOTAL DE REFERENCIA ENVIADAS | D43: =SUM(D37:D42) -> 0 | E43: =IF($D$23=0,"-",D43/$D$23*100) -> 0
B45: * EN TOTAL CONSIDERAR EL NUMERO TOTAL DE CAUSAS

Sheet F10 REFERENCIA 
B2: SISTEMA DE REFERENCIA Y CONTRAREFERENCIA
B4: RED DE REFERENCIAS DE LA MICRO RED
B5: EE.SS | C5: ESTABLECIMIENTO AL QUE SE REFIERE | D5: DISTANCIA (Km) | E5: TIEMPO (horas)
B17: CENTROS POBLADOS SEGÚN ESTABLECIMIENTO
B18: CENTRO POBLADO | C18: ESTABLECIMIENTO DE REFERENCIA | D18: DISTANCIA (Km) | E18: TIEMPO (horas)
B35: AÑADIR MAPA DEL SISTEMA DE REFERENCIA Y CONTRARREFERENCIA DE LA MICRORED: TRAYECTOS, DISTANCIAS Y TIEMPOS ENTRE ESTABLECIMIENTOS (Incluir hospital y establecimientos de referencia que no son de la jurisdicción de ser necesario).

Sheet F11 CARTERA DE SERVICIOS 
B2: CARTERA DE SERVICIOS DE SALUD APROBADA
B3: "según R.M. N° 099-2014/MINSA, se aprueba la Directiva Administrativa N° 197-MINSA/DGSP-V.01 que establece la Cartera de Servicios de Salud
B4: RESOL. DIRECTORAL N° :
B5: FECHA DE APROBACION:
B6: CARTERA DE SERVICIOS DE SALUD POR UNIDAD PRODUCTORA DE SERVICIOS DE SALUD (UPSS) (ANEXO 01)
B8: N° | C8: UNIDAD PRODUCTORA DE SERVICIOS DE SALUD (UPSS) | D8: PRESTACIONES DE LA CARTERA DE SERVICIOS DE SALUD | E8: EESS 1 | F8: EESS2 | G8: EESS3 | H8: EESS 4 | I8: EESS 5 | J8: EESS 6 | K8: EESS 7 | L8: EESS 8
B9: 1 | C9: CONSULTA EXTERNA | D9: Consulta ambulatoria por médico general
B10: 2 | C10: CONSULTA EXTERNA | D10: Atención ambulatoria por enfermera(o).
B11: 3 | C11: CONSULTA EXTERNA | D11: Atención ambulatoria diferenciada por profesional de la salud.
B12: 4 | C12: CONSULTA EXTERNA | D12: Atención ambulatoria por profesional de la salud capacitado en salud mental.
B13: 5 | C13: CONSULTA EXTERNA | D13: Consulta ambulatoria por médico general capacitado en salud mental.
B14: 6 | C14: CONSULTA EXTERNA | D14: Atención ambulatoria por psicólogo(a).
B15: 7 | C15: CONSULTA EXTERNA | D15: Atención ambulatoria por obstetra.
B16: 8 | C16: CONSULTA EXTERNA | D16: Atención ambulatoria por cirujano dentista.
B17: 9 | C17: EMERGENCIA | D17: Atención en tópico de inyectables y nebulizaciones.
B18: 10 | C18: FARMACIA | D18: Dispensación de medicamentos, dispositivos médicos y productos sanitarios.
B19: 11 | C19: CENTRAL DE ESTERILIZACIÓN | D19: Desinfección de nivel intermedio en Central de Esterilización.
B20: 12 | C20: CENTRAL DE ESTERILIZACIÓN | D20: Esterilización por medios físicos en Central de Esterilización.
C21: COLOCAR SI, NO SEGÚN CORRESPONDA POR ESTABLECIMIENTOS
B22: CARTERA DE SERVICIOS DE SALUD POR ACTIVIDAD DE SALUD (ANEXO 02)
B24: N° | C24: ACTIVIDAD | D24: PRESTACIONES DE LA CARTERA | E24: EESS 1 | F24: EESS2 | G24: EESS3 | H24: EESS 4 | I24: EESS 5 | J24: EESS 6 | K24: EESS 7 | L24: EESS 8
B25: 1 | C25: Salud Familiar y Comunitaria | D25: Visita domiciliaria por profesional de la salud no médico
B26: 2 | C26: Salud Familiar y Comunitaria | D26: Visita domiciliaria por médico general
B27: 3 | C27: Salud Familiar y Comunitaria | D27: Intervenciones educativas y comunicacionales
B28: 4 | C28: Atención de Urgencias y Emergencias | D28: Atención inicial de urgencias y emergencias por personal de la salud no médico
B29: 5 | C29: Atención de Urgencias y Emergencias | D29: Atención de urgencias y emergencias por médico general
B30: 6 | C30: Pruebas rápidas y toma de muestras | D30: Pruebas rápidas de laboratorio clínico y toma de muestras biológicas
B31: 7 | C31: Atención con Medicamentos | D31: Expendio de medicamentos, dispositivos médicos y productos farmacéuticos
B32: 8 | C32: Desinfección y Esterilización | D32: Desinfección y esterilización
B34: *Formato Modelo

Sheet F12A RRHH
B2: PERSONAL DISPONIBLE POR CONDICION LABORAL Y GRUPO OCUPACIONAL - SEGÚN ESTABLECIMIENTO AÑO 2019
B4: TIPO DE ACTIVIDADES DE SALUD | C4: TOTAL PERSONAL SEGÚN HORAS DE TRABAJO | D4: MEDICO | E4: ENFERMERA | F4: OBSTETRA | G4: ODONTOLOGO | H4: ASISTENTA SOCIAL | I4: NUTRICIONISTA | J4: PSICOLOGO | K4: OTROS PROFESIONALES | L4: TEC. ENF. | M4: OTROS TEC. | N4: TEC. ADMINIST. | O4: PERSONAL NO INCLUIDO EN LOS ANTERIORES | P4: ESPECIFICAR LA PROFESIÓN, OFICIO, OCUPACIÓN DEL PERSONAL CONSDIERADO EN OTROS
B5: I. PERSONAL CON HORAS DE TRABAJO DISPONIBLES POR D. LEG N° 276 ( NOMBRADOS) | C5: =SUM(D5:O5) -> 0 | D5: =SUM(D6:D15) -> 0 | E5: =SUM(E6:E15) -> 0 | F5: =SUM(F6:F15) -> 0 | G5: =SUM(G6:G15) -> 0 | H5: =SUM(H6:H15) -> 0 | I5: =SUM(I6:I15) -> 0 | J5: =SUM(J6:J15) -> 0 | K5: =SUM(K6:K15) -> 0 | ... O5: =SUM(O6:O15) -> 0
B6: Establecimiento 1 | C6: =SUM(D6:O6) -> 0
B7: Establecimiento 2 | C7: =SUM(D7:O7) -> 0
B8: Establecimiento 3 | C8: =SUM(D8:O8) -> 0
B9: Establecimiento 4 | C9: =SUM(D9:O9) -> 0
B10: Establecimiento 5 | C10: =SUM(D10:O10) -> 0
B11: Establecimiento 6 | C11: =SUM(D11:O11) -> 0
B12: Establecimiento 7 | C12: =SUM(D12:O12) -> 0
B13: Establecimiento 8 | C13: =SUM(D13:O13) -> 0
B14: Establecimiento 9 | C14: =SUM(D14:O14) -> 0
B16: II. TOTAL PERSONAL CON D.L. 728 | C16: =C17+C28 -> 0 | D16: =D17+D28 -> 0 | E16: =E17+E28 -> 0 | F16: =F17+F28 -> 0 | G16: =G17+G28 -> 0 | H16: =H17+H28 -> 0 | I16: =I17+I28 -> 0 | J16: =J17+J28 -> 0 | ... O16: =O17+O28 -> 0
B17: PERSONAL CONTRATADO CON FINANCIAMIENTO RECURSOS ORDINARIOS | C17: =SUM(D17:O17) -> 0 | D17: =SUM(D27:D27) -> 0 | E17: =SUM(E27:E27) -> 0 | F17: =SUM(F27:F27) -> 0 | G17: =SUM(G27:G27) -> 0 | H17: =SUM(H27:H27) -> 0 | I17: =SUM(I27:I27) -> 0 | J17: =SUM(J27:J27) -> 0 | K17: =SUM(K27:K27) -> 0 | ... O17: =SUM(O27:O27) -> 0
B18: Establecimiento 1 | C18: =SUM(D18:O18) -> 0
B19: Establecimiento 2 | C19: =SUM(D19:O19) -> 0
B20: Establecimiento 3 | C20: =SUM(D20:O20) -> 0
B21: Establecimiento 4 | C21: =SUM(D21:O21) -> 0
B22: Establecimiento 5 | C22: =SUM(D22:O22) -> 0
B23: Establecimiento 6 | C23: =SUM(D23:O23) -> 0
B24: Establecimiento 7 | C24: =SUM(D24:O24) -> 0
B25: Establecimiento 8 | C25: =SUM(D25:O25) -> 0
B26: Establecimiento 9 | C26: =SUM(D26:O26) -> 0
C27: =SUM(D27:O27) -> 0
B28: PERSONAL CONTRATADO CON FINANCIAMIENTO RDR | C28: =SUM(D28:O28) -> 0 | D28: =SUM(D29:D38) -> 0 | E28: =SUM(E29:E38) -> 0 | F28: =SUM(F29:F38) -> 0 | G28: =SUM(G29:G38) -> 0 | H28: =SUM(H29:H38) -> 0 | I28: =SUM(I29:I38) -> 0 | J28: =SUM(J29:J38) -> 0 | K28: =SUM(K29:K38) -> 0 | ... O28: =SUM(O29:O38) -> 0
B29: Establecimiento 1 | C29: =SUM(D29:O29) -> 0
B30: Establecimiento 2 | C30: =SUM(D30:O30) -> 0
B31: Establecimiento 3 | C31: =SUM(D31:O31) -> 0
B32: Establecimiento 4 | C32: =SUM(D32:O32) -> 0
B33: Establecimiento 5 | C33: =SUM(D33:O33) -> 0
B34: Establecimiento 6 | C34: =SUM(D34:O34) -> 0
B35: Establecimiento 7 | C35: =SUM(D35:O35) -> 0
B36: Establecimiento 8 | C36: =SUM(D36:O36) -> 0
B37: Establecimiento 9 | C37: =SUM(D37:O37) -> 0
C38: =SUM(D38:O38) -> 0
B39: III.PERSONAL CON HORAS CONTRATADAS POR PPR 6 HORAS (DL1057) | C39: =SUM(D39:O39) -> 0 | D39: =SUM(D40:D49) -> 0 | E39: =SUM(E40:E49) -> 0 | F39: =SUM(F40:F49) -> 0 | G39: =SUM(G40:G49) -> 0 | H39: =SUM(H40:H49) -> 0 | I39: =SUM(I40:I49) -> 0 | J39: =SUM(J40:J49) -> 0 | K39: =SUM(K40:K49) -> 0 | ... O39: =SUM(O40:O49) -> 0
B40: Establecimiento 1 | C40: =SUM(D40:O40) -> 0
B41: Establecimiento 2 | C41: =SUM(D41:O41) -> 0
B42: Establecimiento 3 | C42: =SUM(D42:O42) -> 0
B43: Establecimiento 4 | C43: =SUM(D43:O43) -> 0
...

Sheet F12B RRHH
A2: PERSONAL CONTRATADO TUO 728 2018
A3: N° | B3: APELLIDOS Y NOMBRES | C3: DNI Nº | D3: FECHA DE NACIMIENTO | E3: ESTADO CIVIL | F3: FECHA DE INGRESO | G3: CONDICION DE CONTRATO | H3: VIGENCIA DE CONTRATO | I3: PROFESION/OCUPACION | J3: Nº REGISTRO DE DIPLOMA O TITULO PROFESIONAL | K3: Nº COLEGIATURA | L3: INICIO Y TERMINO SERUMS | M3: Nº RESOLUCION TERMINO SERUMS | N3: SISTEMA DE PENSIONES | O3: DOMICILIO | P3: Nº CELULAR Y/O TELEFONO FIJO
A4: 1
A5: 2
A6: 3
A7: 4
A8: 5
A9: 6
A10: 7
A11: 8
A12: 9
A13: 10
A14: 11
A15: 12
... A21: 18

Sheet F13 PROBLEMAS PRIORIZADOS
B2: PRIORIDADES E INTERVENCIONES SANITARIAS LOCALES
B3: (Las que serán aprobadas en la Asambla General. Fase de Planeamiento Estratégico Participativo de Salud)
B4: PROBLEMAS SANITARIOS PRIORIZADOS POR ETAPAS DE VIDA
B6: NIÑO
B7: 1
B8: 2
B9: 3
B10: 4
B11: 5
B12: 6
B13: 7
B14: 8
B16: ADOLESCENTE
B17: 1
B18: 2
B19: 3
B20: 4
B21: 5
B22: 6
B23: 7
B24: 8
B26: JOVEN
B27: 1
B28: 2
B29: 3
B30: 4
B31: 5
B32: 6
B33: 7
B34: 8
B36: ADULTO
B37: 1
B38: 2
B39: 3
B40: 4
B41: 5
B42: 6
B43: 7
B44: 8
B46: ADULTO MAYOR
...

Sheet F14 HORAS DESPLAZAMIENTO
A1: PROGRAMACION DEL HORAS DE DESPLAZAMIENTO PARA LA REALIZACION DE TRABAJO EXTRAMURAL EN LOCALIDADES A DISTANCIAS MAYORES A 2 HORAS
A3: Nº | B3: LOCALIDAD DE ENTREGA DE SERVICIOS * | C3: POBLACION | D3: CALCULO DE TIEMPO DE DESPLAZAMIENTO (HORAS) | G3: NUMERO DE VISITAS POR LOCALIDAD A REALIZARSE EN EL 2,017
D4: VIAJE IDA (A) | E4: VIAJE VUELTA (B) | F4: TOTAL (A+B) = (C) | G4: MEDICO | I4: ENFERMERA | K4: OBSTETRIZ | M4: ODONTOLOGO | O4: NUTRICIONISTA | Q4: PSICOLOGO | S4: TEC. ENF.
G5: N° (D) | H5: HOR. (DxC) | I5: N° (E) | J5: HOR. (ExC) | K5: N° (F) | L5: HOR. (FxC) | M5: N° (G) | N5: HOR. (GxC) | O5: N° (H) | P5: HOR. (HxC) | Q5: N° (I) | R5: HOR. (IxC) | S5: N° (J) | T5: HOR. (JxC)
A6: 1 | F6: =D6+E6 -> 0 | H6: =G6*F6 -> 0 | J6: =I6*F6 -> 0 | L6: =K6*F6 -> 0 | N6: =M6*F6 -> 0 | P6: =O6*F6 -> 0 | R6: =Q6*F6 -> 0 | T6: =S6*F6 -> 0
A7: 2 | D7: 4 | E7: 4 | F7: =D7+E7 -> 8 | G7: 3 | H7: =G7*F7 -> 24 | I7: 1 | J7: =I7*F7 -> 8 | K7: 2 | L7: =K7*F7 -> 16 | M7: 2 | N7: =M7*F7 -> 16 | O7: 2 | P7: =O7*F7 -> 16 | Q7: 2 | R7: =Q7*F7 -> 16 | S7: 2 | T7: =S7*F7 -> 16
A8: 3 | F8: =D8+E8 -> 0 | H8: =G8*F8 -> 0 | J8: =I8*F8 -> 0 | L8: =K8*F8 -> 0 | N8: =M8*F8 -> 0 | P8: =O8*F8 -> 0 | R8: =Q8*F8 -> 0 | T8: =S8*F8 -> 0
A9: 4 | F9: =D9+E9 -> 0 | H9: =G9*F9 -> 0 | J9: =I9*F9 -> 0 | L9: =K9*F9 -> 0 | N9: =M9*F9 -> 0 | P9: =O9*F9 -> 0 | R9: =Q9*F9 -> 0 | T9: =S9*F9 -> 0
A10: 5 | F10: =D10+E10 -> 0 | H10: =G10*F10 -> 0 | J10: =I10*F10 -> 0 | L10: =K10*F10 -> 0 | N10: =M10*F10 -> 0 | P10: =O10*F10 -> 0 | R10: =Q10*F10 -> 0 | T10: =S10*F10 -> 0
A11: 6 | F11: =D11+E11 -> 0 | H11: =G11*F11 -> 0 | J11: =I11*F11 -> 0 | L11: =K11*F11 -> 0 | N11: =M11*F11 -> 0 | P11: =O11*F11 -> 0 | R11: =Q11*F11 -> 0 | T11: =S11*F11 -> 0
A12: 7 | F12: =D12+E12 -> 0 | H12: =G12*F12 -> 0 | J12: =I12*F12 -> 0 | L12: =K12*F12 -> 0 | N12: =M12*F12 -> 0 | P12: =O12*F12 -> 0 | R12: =Q12*F12 -> 0 | T12: =S12*F12 -> 0
A13: 8 | F13: =D13+E13 -> 0 | H13: =G13*F13 -> 0 | J13: =I13*F13 -> 0 | L13: =K13*F13 -> 0 | N13: =M13*F13 -> 0 | P13: =O13*F13 -> 0 | R13: =Q13*F13 -> 0 | T13: =S13*F13 -> 0
A14: 9 | F14: =D14+E14 -> 0 | H14: =G14*F14 -> 0 | J14: =I14*F14 -> 0 | L14: =K14*F14 -> 0 | N14: =M14*F14 -> 0 | P14: =O14*F14 -> 0 | R14: =Q14*F14 -> 0 | T14: =S14*F14 -> 0
A15: 10 | F15: =D15+E15 -> 0 | H15: =G15*F15 -> 0 | J15: =I15*F15 -> 0 | L15: =K15*F15 -> 0 | N15: =M15*F15 -> 0 | P15: =O15*F15 -> 0 | R15: =Q15*F15 -> 0 | T15: =S15*F15 -> 0
A16: 11 | F16: =D16+E16 -> 0 | H16: =G16*F16 -> 0 | J16: =I16*F16 -> 0 | L16: =K16*F16 -> 0 | N16: =M16*F16 -> 0 | P16: =O16*F16 -> 0 | R16: =Q16*F16 -> 0 | T16: =S16*F16 -> 0
A17: 12 | F17: =D17+E17 -> 0 | H17: =G17*F17 -> 0 | J17: =I17*F17 -> 0 | L17: =K17*F17 -> 0 | N17: =M17*F17 -> 0 | P17: =O17*F17 -> 0 | R17: =Q17*F17 -> 0 | T17: =S17*F17 -> 0
A18: 13 | F18: =D18+E18 -> 0 | H18: =G18*F18 -> 0 | J18: =I18*F18 -> 0 | L18: =K18*F18 -> 0 | N18: =M18*F18 -> 0 | P18: =O18*F18 -> 0 | R18: =Q18*F18 -> 0 | T18: =S18*F18 -> 0
A19: 14 | F19: =D19+E19 -> 0 | H19: =G19*F19 -> 0 | J19: =I19*F19 -> 0 | L19: =K19*F19 -> 0 | N19: =M19*F19 -> 0 | P19: =O19*F19 -> 0 | R19: =Q19*F19 -> 0 | T19: =S19*F19 -> 0
A20: 15 | F20: =D20+E20 -> 0 | H20: =G20*F20 -> 0 | J20: =I20*F20 -> 0 | L20: =K20*F20 -> 0 | N20: =M20*F20 -> 0 | P20: =O20*F20 -> 0 | R20: =Q20*F20 -> 0 | T20: =S20*F20 -> 0
B21: TOTAL | C21: =SUM(C6:C20) -> 0 | H21: =SUM(H6:H20) -> 24 | J21: =SUM(J6:J20) -> 8 | L21: =SUM(L6:L20) -> 16 | N21: =SUM(N6:N20) -> 16 | P21: =SUM(P6:P20) -> 16 | R21: =SUM(R6:R20) -> 16 | T21: =SUM(T6:T20) -> 16
A22: * En el caso de un solo establecimiento se consignara las localidades con poblacion sin acceso directo, cuando existen varios se programaran priorizando algunos y localidades sin acceso directoestablecimientos
B24: CONSOLIDADO POR PROFESIONAL PARA EL TRASLADO DEL TRABAJO EXTRAMURAL
B26: TIPO DE PROFESIONAL | C26: HORAS AL AÑO
B27: MEDICO | C27: =H21 -> 24
B28: ENFERMERA | C28: =J21 -> 8
B29: OBSTETRIZ | C29: =L21 -> 16
B30: ODONTOLOGO | C30: =N21 -> 16
B31: NUTRICIONISTA | C31: =P21 -> 16
B32: PSICOLOGO | C32: =R21 -> 16
B33: TEC. ENFERMERIA | C33: =T21 -> 16
B34: SUB TOTALHORAS DE DESPLAZAMIENTO PARA EXTRAMURAL | C34: =SUM(C27:C33) -> 112

Sheet F15 PROG. ACTIVIDADES
A1: PROGRAMACION DE ACTIVIDADES DEL PLAN DE SALUD LOCAL 2019
A2: N° ACT. | B2: ESTRG | C2: PPR | D2: ACTIVIDADES | E2: CODIGO HISS | F2: INDICADOR | G2: POBLACIÓN OBJETIVO | H2: UNIDAD DE MEDIDA | I2: DEFINICIÓN OPERACIONAL | J2: FUENTE DE VERIFICACIÓN/ REGISTRO | K2: CRITERIOS DE PROGRAMACIÓN | L2: CONCENTRACIÓN | M2: TIEMPO POR ACTIVIDAD | N2: PROGRAMACION ATENDIDOS | AA2: ATC
N3: EESS 1 | O3: EESS 2 | P3: EESS 3 | Q3: EESS 4 | R3: EESS 5 | S3: EESS 6 | T3: EESS 7 | U3: EESS 8 | V3: EESS 9 | W3: EESS 10 | X3: EESS 11 | Y3: EESS 12 | Z3: PRG X MR
A5: 1 | B5: NIÑO | C5: PAN | D5: SUPLEMENTO DE MICRONUTRIENTES | F5: % DE NIÑOS MENORES DE 110 y 130 dias SUPLEMENTADOS CON SULFATO FERROSO EN GOTAS | G5: < 1 año | H5: Niño Suplementado | I5: La suplementación con hierro es una intervención que tiene como objetivo asegurar el suministro adecuado de hierro en los niños menores de 36 meses para mantener niveles adecuados de hierro en su organismo y prevenir la anemia, mejorar la inmunidad y favorecer el crecimiento. Se inicia a partir de los 6 meses y continua hasta completar 12 entregas mensuales. | J5: HC - HIS - LIBRO DE SEGUIMIENTO | K5: 100 % de Niños menores de 1 año prioritariamente Afiliados SIS y sin seguro | L5: 6 | M5: 10 | N5: 19 | Z5: =SUM(N5:Y5) -> 19 | AA5: =L5*Z5 -> 114
B6: NIÑO | C6: PAN | F6: % DE NIÑOS DE <1 AÑO SUPLEMENTADOS CON HIERRO Y/O MICRONUTRIENTES | G6: < 1 año | H6: Niño Suplementado | J6: HC - HIS - LIBRO DE SEGUIMIENTO | K6: 100 % de Niños < 1 año prioritariamente Afiliados SIS y sin seguro | L6: 6 | M6: 10 | Z6: =SUM(N6:Y6) -> 0 | AA6: =L6*Z6 -> 0
B7: NIÑO | C7: PAN | F7: % DE NIÑOS DE 1 años SUPLEMENTADOS CON HIERRO Y/O MICRONUTRIENTES | G7: 1 años | H7: Niño Suplementado | J7: HC - HIS - LIBRO DE SEGUIMIENTO | K7: 100 % de Niños de 1 años que no recibieron las 12 entregas de micronutrientes antes de los 2 años | L7: 6 | M7: 10 | Z7: =SUM(N7:Y7) -> 0 | AA7: =L7*Z7 -> 0
B8: NIÑO | C8: PAN | F8: % DE NIÑOS DE 2 años SUPLEMENTADOS CON HIERRO Y/O MICRONUTRIENTES | G8: 2 años | H8: Niño Suplementado | J8: HC - HIS - LIBRO DE SEGUIMIENTO | K8: 100 % de Niños de 2 años que no recibieron las 12 entregas de micronutrientes antes de los 3 años | L8: 6 | M8: 10 | Z8: =SUM(N8:Y8) -> 0 | AA8: =L8*Z8 -> 0
B9: NIÑO | C9: PAN | F9: % DE NIÑOS DE 3 años SUPLEMENTADOS CON HIERRO Y/O MICRONUTRIENTES | G9: 3 años | H9: Niño Suplementado | J9: HC - HIS - LIBRO DE SEGUIMIENTO | K9: 100 % de Niños de 3 años que no recibieron las 12 entregas de micronutrientes antes de los 3 años | L9: 6 | M9: 10 | Z9: =SUM(N9:Y9) -> 0 | AA9: =L9*Z9 -> 0
B10: NIÑO | C10: PAN | F10: % DE NIÑOS DE 4 años a 5 años SUPLEMENTADOS CON HIERRO Y/O MICRONUTRIENTES | G10: 4 años | H10: Niño Suplementado | J10: HC - HIS - LIBRO DE SEGUIMIENTO | K10: 100 % de Niños de 4 años que no recibieron las 12 entregas de micronutrientes antes de los 3 años | L10: 6 | M10: 10 | Z10: =SUM(N10:Y10) -> 0 | AA10: =L10*Z10 -> 0
B11: ADOLESCENTE | C11: PAN | F11: % DE ADOLESCENTES DE 12 A 17 AÑOS SUPLEMENTADOS CON SULFATO FERROSO Y ACIDO FOLICO | G11: Adolescente | H11: Adolescente suplementado | I11: La suplementacionde sulfato ferroso y acido tiene como finalidad asegurar el desarrollo adecuado del adolescente | J11: HC - HIS - LIBRO DE SEGUIMIENTO | K11: 50% de adolescentes con SIS | L11: 6 | M11: 10 | Z11: =SUM(N11:Y11) -> 0 | AA11: =L11*Z11 -> 0
B12: Gestante | C12: SMN | F12: % DE GESTANTES SUPLEMENTADAS CON SULFATO FERROSO + ACIDO FOLICO | G12: Gestante | H12: Gestante suplementada | I12: La suplementacion es una intervencion que tiene como objetivo asegurar el suministro adecuado a las gestantes y puerperas de hierro más Ac. Fólico, para disminuir la prevalencia de anemia y otras complicaciones. Se entrega a partir de las 14 semanas de gestacion cada vez q la usuaria acude a la consulta o en domicilio. - Lo realiza profesional de la salud Obstetra, en EESS desde el primer nivel de atc. en un tiempo no menor de 20 minutos por atención. - Además de la entrega del insumo, la gestante recibe orientación/consejería y evaluacion nutricional, la misma que queda consignada en el cuaderno de seguimiento, Historia Clínica y Carné Materno Perinatal. - Adicionalmente se realiza 1 visita domiciliria a las gestantes para lograr adherencia al sulfato ferroso. - Se considera gestante suplementada, cuando la usuaria recibe un total de 60 tabletas de ácido fólico (durante los primeros 3 meses de gestación) y 210 tabletas de sulfato ferroso + ácido fólico (180 tabletas de sulfato ferrosos durante la gestación y 30 durante el puerperio). | J12: HC - HIS - SIP - RADAR | K12: 100 % de gestantes esperadas, | L12: 6 | M12: 10 | N12: 20 | O12: 15 | P12: 10 | Z12: =SUM(N12:Y12) -> 45 | AA12: =L12*Z12 -> 270
B13: Gestante | C13: SMN | F13: % DE PUERPERAS CON SUPLEMENTACIÓN DE SULFATO FERROSO COMPLETO | G13: Puerpera | H13: Puerpera suplementada | J13: HC - HIS - SIP - RADAR | K13: 100 % de puerperas, | L13: 1 | M13: 10 | Z13: =SUM(N13:Y13) -> 0 | AA13: =L13*Z13 -> 0
A14: =+A5+1 -> 2 | B14: NIÑO | C14: PAN | D14: CONTROL CRED | F14: % DE RECIEN NACIDOS CON 2 CONTROLES CRED HASTA LOS 15 DIAS | G14: R.N. | H14: R. N. Controlado | I14: Control de crecimiento y desarrollo: Conjunto de actividades periódicas y sistemáticas desarrolladas por el profesional enfermera o médico, con el objetivo de vigilar de manera adecuada y oportuna el crecimiento y desarrollo de la niña y el niño a fin de detectar de manera precoz y oportuna riesgos, alteraciones o trastornos, así como la presencia de enfermedades, facilitar su diagnóstico e intervención oportuna; así mismo promover la mejora de las practicas de cuidado de alimentación del niño a través de la consejería, la misma que forma parte del control. Para el cálculo de la meta física de Recién Nacidos tomar como referencia el padrón nominal de gestantes. | J14: HC - HIS - LIBRO DE SEGUIMIENTO | K14: 100% de niños y niñas afiliados SIS y en quintiles de pobreza I y II y 80% en la Provincia de Arequipa. 04 controles de RN , 48 horas, 7 dias, 15 dias y 21 dias | L14: 4 | M14: 45 | Z14: =SUM(N14:Y14) -> 0 | AA14: =L14*Z14 -> 0
B15: NIÑO | C15: PAN | F15: % DE NIÑOS CON CONTROLES CRED COMPLETOS PARA LA EDAD | G15: < 1 año | H15: Niño Controlado | J15: HC - HIS - LIBRO DE SEGUIMIENTO | K15: 100% de niños y niñas afiliados SIS y en quintiles de pobreza I y II y 80% en la Provincia de Arequipa. | L15: 11 | M15: 45 | Z15: =SUM(N15:Y15) -> 0 | AA15: =L15*Z15 -> 0
B16: NIÑO | C16: PAN | G16: 1 año | H16: Niño Controlado | J16: HC - HIS - LIBRO DE SEGUIMIENTO | L16: 6 | M16: 45 | Z16: =SUM(N16:Y16) -> 0 | AA16: =L16*Z16 -> 0
B17: NIÑO | C17: PAN | G17: 2 - 4 años | H17: Niño Controlado | J17: HC - HIS - LIBRO DE SEGUIMIENTO | L17: 4 | M17: 45 | Z17: =SUM(N17:Y17) -> 0 | AA17: =L17*Z17 -> 0
B18: NIÑO | G18: 5 - 11 años | H18: Niño Controlado | J18: HC - HIS - LIBRO DE SEGUIMIENTO | L18: 1 | M18: 45 | Z18: =SUM(N18:Y18) -> 0 | AA18: =L18*Z18 -> 0
A19: 3 | B19: NIÑO | C19: PAN | D19: DOSAJE DE HEMOGLOBINA | F19: % DE NIÑOS CON DOSAJE DE HEMOGLOBINA | G19: R.N. | H19: R.N. con Dosaje de Hemoglobina | I19: Conjunto de procedimientos realizados por un profesional o un técnico de laboratorio con el objetivo de obtener y procesar una muestra de sangre e identificar los niveles de hemoglobina en niños y niñas menores de 36 meses, gestantes y puerperas para descartar anemia por deficiencia de hierro; El procedimiento de realiza en establecimientos que cuentan con laboratorio o aquellos que cuenten con hemoglobinómetro portátil y personal capacitado en su manejo. | J19: HC - HIS - LIBRO DE SEGUIMIENTO | K19: 100 % de niños y niñas afiliados al SIS y en Quintiles de probreza I y II y 80 % en otros quintiles | L19: 1 | M19: 15 | Z19: =SUM(N19:Y19) -> 0 | AA19: =L19*Z19 -> 0
B20: NIÑO | C20: PAN | G20: < 1 año | H20: Niño con Dosaje de Hb | J20: HC - HIS - LIBRO DE SEGUIMIENTO | L20: 1 | M20: 15 | Z20: =SUM(N20:Y20) -> 0 | AA20: =L20*Z20 -> 0
B21: NIÑO | C21: PAN | G21: 1 año | H21: Niño con Dosaje de Hb | J21: HC - HIS - LIBRO DE SEGUIMIENTO | L21: 1 | M21: 15 | Z21: =SUM(N21:Y21) -> 0 | AA21: =L21*Z21 -> 0
B22: NIÑO | C22: PAN | G22: 2 años | H22: Niño con Dosaje de Hb | J22: HC - HIS - LIBRO DE SEGUIMIENTO | L22: 1 | M22: 15 | Z22: =SUM(N22:Y22) -> 0 | AA22: =L22*Z22 -> 0
B23: Gestante | C23: SMN | F23: % DE GESTANTES CON DOSAJE DE HEMOGLOBINA EN EL III TRIMESTRE | G23: Gestante | H23: Gestante con Dosaje de Hb | J23: HC - HIS - SIP - RADAR | K23: 100 % de gestantes programadas | L23: 1 | M23: 15 | Z23: =SUM(N23:Y23) -> 0 | AA23: =L23*Z23 -> 0
B24: Gestante | C24: SMN | F24: % CON DOSAJE DE HEMOGLOBINA EN EL PUERPERIO INMEDIATO | G24: Puerpera | H24: Puérpera con Dosaje de Hemoglobina | J24: HC - HIS - SIP - RADAR | K24: 100 % de gestantes programadas | L24: 1 | M24: 15 | Z24: =SUM(N24:Y24) -> 0 | AA24: =L24*Z24 -> 0
A25: 4 | B25: RN | C25: PAN | D25: ADMINISTRACIÓN DE VACUNA BCG | F25: % DE RECIEN NACIDO CON VACUNA BCG | G25: R.N. | H25: R. N. Protegido | I25: En esta actividad todos los niños recién nacidos, deberán recibir en el transcurso de las primeras 48 horas de vida la vacuna BCG | J25: HC - HIS - LIBRO DE SEGUIMIENTO | K25: 100 % de RN en ESS con internamiento. | L25: 1 | M25: 10 | Z25: =SUM(N25:Y25) -> 0 | AA25: =L25*Z25 -> 0
A26: 5 | B26: RN | C26: PAN | D26: ADMINISTRACIÓN DE VACUNA CONTRA HEPATITIS | F26: % DE RECIEN NACIDO CON VACUNA HvB | G26: R.N. | H26: R. N. Protegido | I26: En esta actividad todos los niños recién nacidos, deberán recibir en el transcurso de las primeras 48 horas de vida la vacuna HvB | J26: HC - HIS - LIBRO DE SEGUIMIENTO | K26: 100 % de RN en ESS con internamiento. | L26: 1 | M26: 10 | Z26: =SUM(N26:Y26) -> 0 | AA26: =L26*Z26 -> 0
A27: 6 | B27: RN | C27: PAN | D27: ATENCIÓN INMEDIATA DEL RECIEN NACIDO | F27: % DE RECIEN NACIDOS CON ATENCIÓN INMEDIATA | G27: R.N. | H27: R. N. Atendido | I27: Es la atención, cuidados y procedimientos dirigidas al RN realizadas en el establecimiento de salud y estará a cargo de profesional con competencias para la atención del RN. | J27: HC - HIS | K27: 100 % de Recien Nacidos sin complicaciones de Parto Institucional | L27: 1 | M27: 120 | Z27: =SUM(N27:Y27) -> 0 | AA27: =L27*Z27 -> 0
A28: 7 | B28: ESNI | C28: PAN | D28: ADMINISTRACIÓN DE VACUNA PENTAVALENTE | F28: % DE NIÑOS MENORES DE 1 AÑO CON VACUNA PENTAVALENTE COMPLETA | G28: < 1 año | H28: Niño Protegido | I28: Pentavalente: administración de la vacuna contra la difteria, tétanos, hepatitis B, hemóphilus influenza tipo B a los 2, 4 y 6 meses | J28: FORMULARIO A - HC - HIS - LIBRO DE SEGUIMIENTO | K28: 100 % población menor de 1 año (80% en la provincia de arequipa) | L28: 3 | M28: 10 | Z28: =SUM(N28:Y28) -> 0 | AA28: =L28*Z28 -> 0
A29: 8 | B29: ESNI | C29: PAN | D29: ADMINISTRACIÓN DE VACUNA NEUMOCOCO | F29: % DE NIÑOS MENORES DE 1 AÑO CON VACUNA NEUMOCOCO 2DA DOSIS | G29: < 1 año | H29: Niño Protegido | I29: Neumococo: administración de la vacuna contra neumococo, a los 2 y 4 meses | J29: FORMULARIO A - HC - HIS - LIBRO DE SEGUIMIENTO | K29: 100 % población menor de 1 año (80% en la provincia de arequipa) | L29: 2 | M29: 10 | Z29: =SUM(N29:Y29) -> 0 | AA29: =L29*Z29 -> 0
B30: ESNI | C30: PAN | F30: % DE NIÑOS DE 1 AÑO CON VACUNA NEUMOCOCO 3ra DOSIS | G30: 1 año | H30: Niño Protegido | I30: Neumococo: administración de la vacuna contra neumococo, a los 12 meses. | J30: FORMULARIO A - HC - HIS - LIBRO DE SEGUIMIENTO | L30: 1 | M30: 10 | Z30: =SUM(N30:Y30) -> 0 | AA30: =L30*Z30 -> 0
A31: 9 | B31: ESNI | C31: PAN | D31: ADMINISTRACIÓN DE VACUNA ROTAVIRUS | F31: % DE NIÑOS MENORES DE 1 AÑO CON VACUNA ROTAVIRUS 2da DOSIS. | G31: < 1 año | H31: Niño Protegido | I31: Rotavirus: administración de la vacuna contra rotavirus por vía oral a los 2 y 4 meses | J31: FORMULARIO A - HC - HIS - LIBRO DE SEGUIMIENTO | K31: 100 % población menor de 1 año (80% en la provincia de arequipa) | L31: 2 | M31: 10 | Z31: =SUM(N31:Y31) -> 0 | AA31: =L31*Z31 -> 0
A32: 10 | B32: ESNI | C32: PAN | D32: ADMINISTRACIÓN DE VACUNA ANTIPOLIOMIELITICA | F32: % DE NIÑOS MENORES DE 1 AÑO CON VACUNA ANTIPOLIOMIELITICA INYECTABLE (IPV). | G32: < 1 año | H32: Niño Protegido | I32: Antipolio Inyectable: administración de la vacuna contra la polio por vía I.M. a los 2 y 4 meses | J32: FORMULARIO A - HC - HIS - LIBRO DE SEGUIMIENTO | K32: 100 % población menor de 1 año (80% en la provincia de arequipa) | L32: 2 | M32: 10 | Z32: =SUM(N32:Y32) -> 0 | AA32: =L32*Z32 -> 0
B33: ESNI | C33: PAN | F33: % DE NIÑOS MENORES DE 1 AÑO CON VACUNA ANTIPOLIOMIELITICA ORAL (OPV) 1 DOSIS | G33: < 1 año | H33: Niño Protegido | I33: Antipolio: administración de la vacuna contra la polio por vía oral a los 6 meses (3ra dosis) | J33: FORMULARIO A - HC - HIS - LIBRO DE SEGUIMIENTO | L33: 1 | M33: 10 | Z33: =SUM(N33:Y33) -> 0 | AA33: =L33*Z33 -> 0
B34: ESNI | C34: PAN | F34: % DE NIÑOS DE 1 AÑO CON VACUNA ANTIPOLIOMIELITICA ORAL (OPV) 1er REFUERZO | G34: 1 año | H34: Niño Protegido | I34: Antipolio: administración de la vacuna contra la polio por vía oral a los 18 meses (REFUERZO) | J34: FORMULARIO A - HC - HIS - LIBRO DE SEGUIMIENTO | L34: 1 | M34: 10 | Z34: =SUM(N34:Y34) -> 0 | AA34: =L34*Z34 -> 0
B35: ESNI | C35: PAN | F35: % DE NIÑOS DE 4 años CON VACUNA ANTIPOLIOMIELITICA ORAL (OPV) 2do REFUERZO | G35: 4 años | H35: Niño Protegido | I35: Antipolio: administración de la vacuna contra la polio por vía oral a los 4 años (REFUERZO) | J35: FORMULARIO B - HC - HIS - LIBRO DE SEGUIMIENTO | L35: 1 | M35: 10 | Z35: =SUM(N35:Y35) -> 0 | AA35: =L35*Z35 -> 0
A36: 11 | B36: ESNI | C36: PAN | D36: ADMINISTRACIÓN DE VACUNA CONTRA INFLUENZA | F36: % DE NIÑOS MENORES DE 1 AÑO CON VACUNA CONTRA LA INFLUENZA (7m y 8m) | G36: < 1 año | H36: Niño Protegido | I36: Influenza: administración de la vacuna contra Influenza a partir del 6to mes | J36: FORMULARIO A - HC - HIS - LIBRO DE SEGUIMIENTO | K36: 50% poblacion menor de 1 año . | L36: 2 | M36: 10 | Z36: =SUM(N36:Y36) -> 0 | AA36: =L36*Z36 -> 0
B37: ESNI | C37: PAN | F37: % DE NIÑOS DE 1 AÑO CON VACUNA CONTRA LA INFLUENZA 1 DOSIS | G37: 1 año | H37: Niño Protegido | I37: Influenza: administración de la vacuna contra Influenza en niño(a) de 1 año | J37: FORMULARIO A - HC - HIS - LIBRO DE SEGUIMIENTO | K37: 100 % población menor de 1 año (80% en la provincia de arequipa) | L37: 1 | M37: 10 | Z37: =SUM(N37:Y37) -> 0 | AA37: =L37*Z37 -> 0
B38: ESNI | C38: PAN | F38: % DE NIÑOS DE 2 -4 años CON COMORBILIDAD CON VACUNA CONTRA LA INFLUENZA (5%) | G38: 2 - 4 años | H38: Niño Protegido | I38: Influenza: administración de la vacuna contra Influenza a niños de 2 años y de 3 a 4 años con comorbilidad | J38: FORMULARIO A - HC - HIS - LIBRO DE SEGUIMIENTO | K38: 100% de niños de 2 años. 12% niños de 3 a 4 años | L38: 1 | M38: 10 | Z38: =SUM(N38:Y38) -> 0 | AA38: =L38*Z38 -> 0
B39: ESNI | F39: % DE POBLACION DE 5 -59 años CON COMORBILIDAD CON VACUNA CONTRA LA INFLUENZA (3%) | G39: 5 - 59 años | H39: Vacunado | I39: Influenza: administración de la vacuna contra Influenza a población de 5 a 59 años con comorbilidad | J39: FORMULARIO A - HC - HIS - | K39: 12% de población de 5 a 59 años según población RENIEC | L39: 1 | M39: 10 | Z39: =SUM(N39:Y39) -> 0 | AA39: =L39*Z39 -> 0
B40: ESNI | C40: SMN | F40: % DE GESTANTE CON VACUNA CONTRA LA INFLUENZA | G40: Gestante | H40: Gestante vacunada | I40: Actividad preventiva en la cual la gestante recibe 2 dosis de vacuna antitetánica lo reealiza la enfermera/o y prersonal de salud capacitado, en los establecimientos de salud a partir del I nivel. Se considera 2 dosis de diptotetánica | J40: FORMULARIO A - HC - HIS - LIBRO DE SEGUIMIENTO | K40: 60% de gestantes. | L40: 1 | M40: 10 | Z40: =SUM(N40:Y40) -> 0 | AA40: =L40*Z40 -> 0
B41: ESNI | F41: % DE ADULTOS MAYORES DE 60 AÑOS A MAS CON VACUNA CONTRA LA INFLUENZA | G41: Adulto Mayor | H41: Adulto Mayor Protegido | I41: Influenza: Consiste en la administración de la vacuna contra la Influenza a los adultos mayores a partir de los 60 años | J41: FORMULARIO A - HC - HIS - LIBRO DE SEGUIMIENTO | K41: 50% de la poblacion adulto mayor | L41: 1 | M41: 10 | Z41: =SUM(N41:Y41) -> 0 | AA41: =L41*Z41 -> 0
...

Sheet F16 HORAS PROFESIONAL
A1: DISTRIBUCION DE HORAS POR PROFESIONAL - PLAN DE SALUD LOCAL 2019
A2: N° ACT. | B2: ESTRG | C2: PPR | D2: ACTIVIDADES | E2: INDICADOR | F2: POBLACIÓN OBJETIVO | G2: UNIDAD MEDIDA ATENDIDOS | H2: PRG X MR | I2: TIEMPO DE EJECUCION
I3: TIEMPO UNITARIO EN MINUTOS | J3: TOTAL DE TIEMPO REQUERIDO EN MINUTOS | K3: TOTAL DE TIEMPO DISTRIBUIDAS EN HORAS | L3: HORAS MEDICO | M3: HORAS ENFERMERA | N3: HORAS OBSTETRA | O3: HORAS ODONTOLOGO | P3: HORAS ASISTENTA SOCIAL | Q3: HORAS NUTRICIONISTA | R3: HORAS PSICOLOGO | S3: HORAS OTROS PROF | T3: HORAS TEC. ASISTENC. | U3: HORAS OTROS TECNICOS | V3: HORAS TEC. ADMIN | W3: HORAS OTRO PERSONAL NO INCLUIDO
A5: 1 | B5: NIÑO | C5: PAN | D5: SUPLEMENTO DE MICRONUTRIENTES | E5: % DE NIÑOS MENORES DE 110 y 130 dias SUPLEMENTADOS CON SULFATO FERROSO EN GOTAS | F5: < 1 año | G5: Niño Suplementado | H5: ='F15 PROG. ACTIVIDADES'!AA5 -> 114 | I5: ='F15 PROG. ACTIVIDADES'!M5 -> 10 | J5: =ROUND((H5*I5)/60,1) -> 19 | K5: =SUM(L5:W5) -> 95 | M5: 95 | X5: =J5-K5 -> -76
B6: NIÑO | C6: PAN | E6: % DE NIÑOS DE <1 AÑO SUPLEMENTADOS CON HIERRO Y/O MICRONUTRIENTES | F6: < 1 año | G6: Niño Suplementado | H6: ='F15 PROG. ACTIVIDADES'!AA6 -> 0 | I6: ='F15 PROG. ACTIVIDADES'!M6 -> 10 | J6: =ROUND((H6*I6)/60,1) -> 0 | K6: =SUM(L6:W6) -> 0 | X6: =J6-K6 -> 0
B7: NIÑO | C7: PAN | E7: % DE NIÑOS DE 1 años SUPLEMENTADOS CON HIERRO Y/O MICRONUTRIENTES | F7: 1 años | G7: Niño Suplementado | H7: ='F15 PROG. ACTIVIDADES'!AA7 -> 0 | I7: ='F15 PROG. ACTIVIDADES'!M7 -> 10 | J7: =ROUND((H7*I7)/60,1) -> 0 | K7: =SUM(L7:W7) -> 0 | X7: =J7-K7 -> 0
B8: NIÑO | C8: PAN | E8: % DE NIÑOS DE 2 años SUPLEMENTADOS CON HIERRO Y/O MICRONUTRIENTES | F8: 2 años | G8: Niño Suplementado | H8: ='F15 PROG. ACTIVIDADES'!AA8 -> 0 | I8: ='F15 PROG. ACTIVIDADES'!M8 -> 10 | J8: =ROUND((H8*I8)/60,1) -> 0 | K8: =SUM(L8:W8) -> 0 | X8: =J8-K8 -> 0
B9: NIÑO | C9: PAN | E9: % DE NIÑOS DE 3 años SUPLEMENTADOS CON HIERRO Y/O MICRONUTRIENTES | F9: 3 años | G9: Niño Suplementado | H9: ='F15 PROG. ACTIVIDADES'!AA9 -> 0 | I9: ='F15 PROG. ACTIVIDADES'!M9 -> 10 | J9: =ROUND((H9*I9)/60,1) -> 0 | K9: =SUM(L9:W9) -> 0
B10: NIÑO | C10: PAN | E10: % DE NIÑOS DE 4 años a 5 años SUPLEMENTADOS CON HIERRO Y/O MICRONUTRIENTES | F10: 4 años | G10: Niño Suplementado | H10: ='F15 PROG. ACTIVIDADES'!AA10 -> 0 | I10: ='F15 PROG. ACTIVIDADES'!M10 -> 10 | J10: =ROUND((H10*I10)/60,1) -> 0 | K10: =SUM(L10:W10) -> 0
B11: ADOLESCENTE | C11: PAN | E11: % DE ADOLESCENTES DE 12 A 17 AÑOS SUPLEMENTADOS CON SULFATO FERROSO Y ACIDO FOLICO | F11: Adolescente | G11: Adolescente suplementado | H11: ='F15 PROG. ACTIVIDADES'!AA11 -> 0 | I11: ='F15 PROG. ACTIVIDADES'!M11 -> 10 | J11: =ROUND((H11*I11)/60,1) -> 0 | K11: =SUM(L11:W11) -> 0 | X11: =J11-K11 -> 0
B12: Gestante | C12: SMN | E12: % DE GESTANTES SUPLEMENTADAS CON SULFATO FERROSO + ACIDO FOLICO | F12: Gestante | G12: Gestante suplementada | H12: ='F15 PROG. ACTIVIDADES'!AA12 -> 270 | I12: ='F15 PROG. ACTIVIDADES'!M12 -> 10 | J12: =ROUND((H12*I12)/60,1) -> 45 | K12: =SUM(L12:W12) -> 45 | N12: 45 | X12: =J12-K12 -> 0
B13: Gestante | C13: SMN | E13: % DE PUERPERAS CON SUPLEMENTACIÓN DE SULFATO FERROSO COMPLETO | F13: Puerpera | G13: Puerpera suplementada | H13: ='F15 PROG. ACTIVIDADES'!AA13 -> 0 | I13: ='F15 PROG. ACTIVIDADES'!M13 -> 10 | J13: =ROUND((H13*I13)/60,1) -> 0 | K13: =SUM(L13:W13) -> 0 | X13: =J13-K13 -> 0
A14: =+A5+1 -> 2 | B14: NIÑO | C14: PAN | D14: CONTROL CRED | E14: % DE RECIEN NACIDOS CON 2 CONTROLES CRED HASTA LOS 15 DIAS | F14: R.N. | G14: R. N. Controlado | H14: ='F15 PROG. ACTIVIDADES'!AA14 -> 0 | I14: ='F15 PROG. ACTIVIDADES'!M14 -> 45 | J14: =ROUND((H14*I14)/60,1) -> 0 | K14: =SUM(L14:W14) -> 0 | X14: =J14-K14 -> 0
B15: NIÑO | C15: PAN | E15: % DE NIÑOS CON CONTROLES CRED COMPLETOS PARA LA EDAD | F15: < 1 año | G15: Niño Controlado | H15: ='F15 PROG. ACTIVIDADES'!AA15 -> 0 | I15: ='F15 PROG. ACTIVIDADES'!M15 -> 45 | J15: =ROUND((H15*I15)/60,1) -> 0 | K15: =SUM(L15:W15) -> 0 | X15: =J15-K15 -> 0
B16: NIÑO | C16: PAN | F16: 1 año | G16: Niño Controlado | H16: ='F15 PROG. ACTIVIDADES'!AA16 -> 0 | I16: ='F15 PROG. ACTIVIDADES'!M16 -> 45 | J16: =ROUND((H16*I16)/60,1) -> 0 | K16: =SUM(L16:W16) -> 0 | X16: =J16-K16 -> 0
B17: NIÑO | C17: PAN | F17: 2 - 4 años | G17: Niño Controlado | H17: ='F15 PROG. ACTIVIDADES'!AA17 -> 0 | I17: ='F15 PROG. ACTIVIDADES'!M17 -> 45 | J17: =ROUND((H17*I17)/60,1) -> 0 | K17: =SUM(L17:W17) -> 0 | X17: =J17-K17 -> 0
B18: NIÑO | F18: 5 - 11 años | G18: Niño Controlado | H18: ='F15 PROG. ACTIVIDADES'!AA18 -> 0 | I18: ='F15 PROG. ACTIVIDADES'!M18 -> 45 | J18: =ROUND((H18*I18)/60,1) -> 0 | K18: =SUM(L18:W18) -> 0 | X18: =J18-K18 -> 0
A19: 3 | B19: NIÑO | C19: PAN | D19: DOSAJE DE HEMOGLOBINA | E19: % DE NIÑOS CON DOSAJE DE HEMOGLOBINA | F19: R.N. | G19: R.N. con Dosaje de Hemoglobina | H19: ='F15 PROG. ACTIVIDADES'!AA19 -> 0 | I19: ='F15 PROG. ACTIVIDADES'!M19 -> 15 | J19: =ROUND((H19*I19)/60,1) -> 0 | K19: =SUM(L19:W19) -> 0 | X19: =J19-K19 -> 0
B20: NIÑO | C20: PAN | F20: < 1 año | G20: Niño con Dosaje de Hb | H20: ='F15 PROG. ACTIVIDADES'!AA20 -> 0 | I20: ='F15 PROG. ACTIVIDADES'!M20 -> 15 | J20: =ROUND((H20*I20)/60,1) -> 0 | K20: =SUM(L20:W20) -> 0 | X20: =J20-K20 -> 0
B21: NIÑO | C21: PAN | F21: 1 año | G21: Niño con Dosaje de Hb | H21: ='F15 PROG. ACTIVIDADES'!AA21 -> 0 | I21: ='F15 PROG. ACTIVIDADES'!M21 -> 15 | J21: =ROUND((H21*I21)/60,1) -> 0 | K21: =SUM(L21:W21) -> 0 | X21: =J21-K21 -> 0
B22: NIÑO | C22: PAN | F22: 2 años | G22: Niño con Dosaje de Hb | H22: ='F15 PROG. ACTIVIDADES'!AA22 -> 0 | I22: ='F15 PROG. ACTIVIDADES'!M22 -> 15 | J22: =ROUND((H22*I22)/60,1) -> 0 | K22: =SUM(L22:W22) -> 0 | X22: =J22-K22 -> 0
B23: Gestante | C23: SMN | E23: % DE GESTANTES CON DOSAJE DE HEMOGLOBINA EN EL III TRIMESTRE | F23: Gestante | G23: Gestante con Dosaje de Hb | H23: ='F15 PROG. ACTIVIDADES'!AA23 -> 0 | I23: ='F15 PROG. ACTIVIDADES'!M23 -> 15 | J23: =ROUND((H23*I23)/60,1) -> 0 | K23: =SUM(L23:W23) -> 0 | X23: =J23-K23 -> 0
B24: Gestante | C24: SMN | E24: % CON DOSAJE DE HEMOGLOBINA EN EL PUERPERIO INMEDIATO | F24: Puerpera | G24: Puérpera con Dosaje de Hemoglobina | H24: ='F15 PROG. ACTIVIDADES'!AA24 -> 0 | I24: ='F15 PROG. ACTIVIDADES'!M24 -> 15 | J24: =ROUND((H24*I24)/60,1) -> 0 | K24: =SUM(L24:W24) -> 0 | X24: =J24-K24 -> 0
A25: 4 | B25: RN | C25: PAN | D25: ADMINISTRACIÓN DE VACUNA BCG | E25: % DE RECIEN NACIDO CON VACUNA BCG | F25: R.N. | G25: R. N. Protegido | H25: ='F15 PROG. ACTIVIDADES'!AA25 -> 0 | I25: ='F15 PROG. ACTIVIDADES'!M25 -> 10 | J25: =ROUND((H25*I25)/60,1) -> 0 | K25: =SUM(L25:W25) -> 0 | X25: =J25-K25 -> 0
A26: 5 | B26: RN | C26: PAN | D26: ADMINISTRACIÓN DE VACUNA CONTRA HEPATITIS | E26: % DE RECIEN NACIDO CON VACUNA HvB | F26: R.N. | G26: R. N. Protegido | H26: ='F15 PROG. ACTIVIDADES'!AA26 -> 0 | I26: ='F15 PROG. ACTIVIDADES'!M26 -> 10 | J26: =ROUND((H26*I26)/60,1) -> 0 | K26: =SUM(L26:W26) -> 0 | X26: =J26-K26 -> 0
A27: 6 | B27: RN | C27: PAN | D27: ATENCIÓN INMEDIATA DEL RECIEN NACIDO | E27: % DE RECIEN NACIDOS CON ATENCIÓN INMEDIATA | F27: R.N. | G27: R. N. Atendido | H27: ='F15 PROG. ACTIVIDADES'!AA27 -> 0 | I27: ='F15 PROG. ACTIVIDADES'!M27 -> 120 | J27: =ROUND((H27*I27)/60,1) -> 0 | K27: =SUM(L27:W27) -> 0 | X27: =J27-K27 -> 0
A28: 7 | B28: ESNI | C28: PAN | D28: ADMINISTRACIÓN DE VACUNA PENTAVALENTE | E28: % DE NIÑOS MENORES DE 1 AÑO CON VACUNA PENTAVALENTE COMPLETA | F28: < 1 año | G28: Niño Protegido | H28: ='F15 PROG. ACTIVIDADES'!AA28 -> 0 | I28: ='F15 PROG. ACTIVIDADES'!M28 -> 10 | J28: =ROUND((H28*I28)/60,1) -> 0 | K28: =SUM(L28:W28) -> 0 | X28: =J28-K28 -> 0
A29: 8 | B29: ESNI | C29: PAN | D29: ADMINISTRACIÓN DE VACUNA NEUMOCOCO | E29: % DE NIÑOS MENORES DE 1 AÑO CON VACUNA NEUMOCOCO 2DA DOSIS | F29: < 1 año | G29: Niño Protegido | H29: ='F15 PROG. ACTIVIDADES'!AA29 -> 0 | I29: ='F15 PROG. ACTIVIDADES'!M29 -> 10 | J29: =ROUND((H29*I29)/60,1) -> 0 | K29: =SUM(L29:W29) -> 0 | X29: =J29-K29 -> 0
B30: ESNI | C30: PAN | E30: % DE NIÑOS DE 1 AÑO CON VACUNA NEUMOCOCO 3ra DOSIS | F30: 1 año | G30: Niño Protegido | H30: ='F15 PROG. ACTIVIDADES'!AA30 -> 0 | I30: ='F15 PROG. ACTIVIDADES'!M30 -> 10 | J30: =ROUND((H30*I30)/60,1) -> 0 | K30: =SUM(L30:W30) -> 0 | X30: =J30-K30 -> 0
A31: 9 | B31: ESNI | C31: PAN | D31: ADMINISTRACIÓN DE VACUNA ROTAVIRUS | E31: % DE NIÑOS MENORES DE 1 AÑO CON VACUNA ROTAVIRUS 2da DOSIS. | F31: < 1 año | G31: Niño Protegido | H31: ='F15 PROG. ACTIVIDADES'!AA31 -> 0 | I31: ='F15 PROG. ACTIVIDADES'!M31 -> 10 | J31: =ROUND((H31*I31)/60,1) -> 0 | K31: =SUM(L31:W31) -> 0 | X31: =J31-K31 -> 0
A32: 10 | B32: ESNI | C32: PAN | D32: ADMINISTRACIÓN DE VACUNA ANTIPOLIOMIELITICA | E32: % DE NIÑOS MENORES DE 1 AÑO CON VACUNA ANTIPOLIOMIELITICA INYECTABLE (IPV). | F32: < 1 año | G32: Niño Protegido | H32: ='F15 PROG. ACTIVIDADES'!AA32 -> 0 | I32: ='F15 PROG. ACTIVIDADES'!M32 -> 10 | J32: =ROUND((H32*I32)/60,1) -> 0 | K32: =SUM(L32:W32) -> 0 | X32: =J32-K32 -> 0
B33: ESNI | C33: PAN | E33: % DE NIÑOS MENORES DE 1 AÑO CON VACUNA ANTIPOLIOMIELITICA ORAL (OPV) 1 DOSIS | F33: < 1 año | G33: Niño Protegido | H33: ='F15 PROG. ACTIVIDADES'!AA33 -> 0 | I33: ='F15 PROG. ACTIVIDADES'!M33 -> 10 | J33: =ROUND((H33*I33)/60,1) -> 0 | K33: =SUM(L33:W33) -> 0 | X33: =J33-K33 -> 0
B34: ESNI | C34: PAN | E34: % DE NIÑOS DE 1 AÑO CON VACUNA ANTIPOLIOMIELITICA ORAL (OPV) 1er REFUERZO | F34: 1 año | G34: Niño Protegido | H34: ='F15 PROG. ACTIVIDADES'!AA34 -> 0 | I34: ='F15 PROG. ACTIVIDADES'!M34 -> 10 | J34: =ROUND((H34*I34)/60,1) -> 0 | K34: =SUM(L34:W34) -> 0 | X34: =J34-K34 -> 0
B35: ESNI | C35: PAN | E35: % DE NIÑOS DE 4 años CON VACUNA ANTIPOLIOMIELITICA ORAL (OPV) 2do REFUERZO | F35: 4 años | G35: Niño Protegido | H35: ='F15 PROG. ACTIVIDADES'!AA35 -> 0 | I35: ='F15 PROG. ACTIVIDADES'!M35 -> 10 | J35: =ROUND((H35*I35)/60,1) -> 0 | K35: =SUM(L35:W35) -> 0 | X35: =J35-K35 -> 0
A36: 11 | B36: ESNI | C36: PAN | D36: ADMINISTRACIÓN DE VACUNA CONTRA INFLUENZA | E36: % DE NIÑOS MENORES DE 1 AÑO CON VACUNA CONTRA LA INFLUENZA (7m y 8m) | F36: < 1 año | G36: Niño Protegido | H36: ='F15 PROG. ACTIVIDADES'!AA36 -> 0 | I36: ='F15 PROG. ACTIVIDADES'!M36 -> 10 | J36: =ROUND((H36*I36)/60,1) -> 0 | K36: =SUM(L36:W36) -> 0 | X36: =J36-K36 -> 0
B37: ESNI | C37: PAN | E37: % DE NIÑOS DE 1 AÑO CON VACUNA CONTRA LA INFLUENZA 1 DOSIS | F37: 1 año | G37: Niño Protegido | H37: ='F15 PROG. ACTIVIDADES'!AA37 -> 0 | I37: ='F15 PROG. ACTIVIDADES'!M37 -> 10 | J37: =ROUND((H37*I37)/60,1) -> 0 | K37: =SUM(L37:W37) -> 0 | X37: =J37-K37 -> 0
B38: ESNI | C38: PAN | E38: % DE NIÑOS DE 2 -4 años CON COMORBILIDAD CON VACUNA CONTRA LA INFLUENZA (5%) | F38: 2 - 4 años | G38: Niño Protegido | H38: ='F15 PROG. ACTIVIDADES'!AA38 -> 0 | I38: ='F15 PROG. ACTIVIDADES'!M38 -> 10 | J38: =ROUND((H38*I38)/60,1) -> 0 | K38: =SUM(L38:W38) -> 0 | X38: =J38-K38 -> 0
B39: ESNI | E39: % DE POBLACION DE 5 -59 años CON COMORBILIDAD CON VACUNA CONTRA LA INFLUENZA (3%) | F39: 5 - 59 años | G39: Vacunado | H39: ='F15 PROG. ACTIVIDADES'!AA39 -> 0 | I39: ='F15 PROG. ACTIVIDADES'!M39 -> 10 | J39: =ROUND((H39*I39)/60,1) -> 0 | K39: =SUM(L39:W39) -> 0 | X39: =J39-K39 -> 0
B40: ESNI | C40: SMN | E40: % DE GESTANTE CON VACUNA CONTRA LA INFLUENZA | F40: Gestante | G40: Gestante vacunada | H40: ='F15 PROG. ACTIVIDADES'!AA40 -> 0 | I40: ='F15 PROG. ACTIVIDADES'!M40 -> 10 | J40: =ROUND((H40*I40)/60,1) -> 0 | K40: =SUM(L40:W40) -> 0 | X40: =J40-K40 -> 0
B41: ESNI | E41: % DE ADULTOS MAYORES DE 60 AÑOS A MAS CON VACUNA CONTRA LA INFLUENZA | F41: Adulto Mayor | G41: Adulto Mayor Protegido | H41: ='F15 PROG. ACTIVIDADES'!AA41 -> 0 | I41: ='F15 PROG. ACTIVIDADES'!M41 -> 10 | J41: =ROUND((H41*I41)/60,1) -> 0 | K41: =SUM(L41:W41) -> 0 | X41: =J41-K41 -> 0
...

Sheet F17 BALANCE RRHH
B2: DISPONIBILIDAD DE PERSONAL DE SALUD POR TODA FUENTE DE FINANCIAMIENTO SEGÚN TIPO DE PROFESIONAL Y HORAS DE TRABAJO - PSL 2019
B3: BALANCE EN RELACION A LA PROGRAMACION DE ACTIVIDADES EN EL PSL 2019
B4: DENOMINACION:
B5: TIPO DE ACTIVIDADES DE SALUD | C5: HORAS DE TRABAJO | D5: HORAS MEDICO | E5: HORAS ENFERMERA | F5: HORAS OBSTETRA | G5: HORAS ODONTOL. | H5: HORAS ASISTENTA SOCIAL | I5: HORAS NUTRICIONISTA | J5: HORAS PSICOLOGO | K5: HORAS OTROS PROFESIONALES | L5: HORAS TEC. ENF. | M5: HORAS OTROS TEC. | N5: HORAS TEC. ADMINIST. | O5: HORAS PERSONAL NO INCLUIDO EN LOS ANTERIORES
B6: HORAS DE TRABAJO DE PERSONAL REQUERIDAS PSL (A) | C6: ='F16 HORAS PROFESIONAL'!K431 -> 252 | D6: ='F16 HORAS PROFESIONAL'!L431 -> 24 | E6: ='F16 HORAS PROFESIONAL'!M431 -> 103 | F6: ='F16 HORAS PROFESIONAL'!N431 -> 61 | G6: ='F16 HORAS PROFESIONAL'!O431 -> 16 | H6: ='F16 HORAS PROFESIONAL'!P431 -> 0 | I6: ='F16 HORAS PROFESIONAL'!Q431 -> 16 | J6: ='F16 HORAS PROFESIONAL'!R431 -> 16 | ... O6: ='F16 HORAS PROFESIONAL'!W431 -> 0
B8: I. HORAS DE TRABAJO DISPONIBLES POR D. LEG N° 276
B9: N° DEL PERSONAL DISPONIBLES POR D. LEG. N° 276 (B) | C9: =SUM(D9:O9) -> 5 | E9: 3 | F9: 2
B10: HORAS DE TRABAJO DEL PERSONAL DISPONIBLES POR D. LEG. N° 276 (C) | C10: =SUM(D10:O10) -> 8250 | D10: =D9*1650 -> 0 | E10: =E9*1650 -> 4950 | F10: =F9*1650 -> 3300 | G10: =G9*1650 -> 0 | H10: =H9*1650 -> 0 | I10: =I9*1650 -> 0 | J10: =J9*1650 -> 0 | K10: =K9*1650 -> 0 | ... O10: =O9*1650 -> 0
B11: TOTAL HORAS DE TRABAJO DISPONIBLES POR DL. 276 (D) | C11: =SUM(D11:O11) -> 8250 | D11: =D10 -> 0 | E11: =E10 -> 4950 | F11: =F10 -> 3300 | G11: =G10 -> 0 | H11: =H10 -> 0 | I11: =I10 -> 0 | J11: =J10 -> 0 | K11: =K10 -> 0 | ... O11: =O10 -> 0
B13: II. HORAS DE TRABAJO A SER FINANCIADAS POR TRANSFERENCIAS NIVEL CENTRAL
B14: PERSONAL CONTRATADO CON FINANCIAMIENTO RECURSOS ORDINARIOS (DL 728)
B15: NUMERO DE DE TRABAJADORES CONSIDERADOS (E) | C15: =SUM(D15:O15) -> 22 | D15: 1 | E15: 1 | F15: 0 | G15: 1 | H15: 2 | I15: 2 | J15: 2 | K15: 1 | L15: 7 | M15: 0 | N15: 1 | O15: 4
B16: HORAS DE TRABAJO OBTENIDAS (C) X 1,650 horas / trabajador = (F) | C16: =SUM(D16:O16) -> 36300 | D16: =D15*1650 -> 1650 | E16: =E15*1650 -> 1650 | F16: =F15*1650 -> 0 | G16: =G15*1650 -> 1650 | H16: =H15*1650 -> 3300 | I16: =I15*1650 -> 3300 | J16: =J15*1650 -> 3300 | K16: =K15*1650 -> 1650 | ... O16: =O15*1650 -> 6600
B17: PERSONAL CONTRATADO CON FINANCIAMIENTO RDR (DL 728)
B18: NUMERO DE DE TRABAJADORES CONSIDERADOS (G) | C18: =SUM(D18:O18) -> 1 | D18: 1
B19: HORAS DE TRABAJO OBTENIDAS (K) x 2,200 horas / trabajador = (H) | C19: =SUM(D19:O19) -> 1650 | D19: 1650 | E19: =E18*2200 -> 0 | F19: =F18*2200 -> 0 | G19: =G18*2200 -> 0 | H19: =H18*2200 -> 0 | I19: =I18*2200 -> 0 | J19: =J18*2200 -> 0 | K19: =K18*2200 -> 0 | L19: =L18*2200 -> 0 | ... O19: =O18*2200 -> 0
B20: TOTAL HORAS A FINANC.C/TRANSF.NIVEL CENTRAL (G) + (H) = (I) | C20: =SUM(D20:O20) -> 37950 | D20: =D16+D19 -> 3300 | E20: =E16+E19 -> 1650 | F20: =F16+F19 -> 0 | G20: =G16+G19 -> 1650 | H20: =H16+H19 -> 3300 | I20: =I16+I19 -> 3300 | J20: =J16+J19 -> 3300 | K20: =K16+K19 -> 1650 | ... O20: =O16+O19 -> 6600
B22: III. HORAS DE TRABAJO A SER FINANCIADAS POR TRANSFERENCIAS NIVEL CENTRAL
B23: PERSONAL CONTRATADO CON FINANCIAMIENTO RECURSOS ORDINARIOS (DL1057)
B24: NUMERO DE DE TRABAJADORES CONSIDERADOS (J) | C24: =SUM(D24:O24) -> 22 | D24: 1 | E24: 1 | F24: 0 | G24: 1 | H24: 2 | I24: 2 | J24: 2 | K24: 1 | L24: 7 | M24: 0 | N24: 1 | O24: 4
B25: HORAS DE TRABAJO OBTENIDAS (C) X 1,650 horas / trabajador = (K) | C25: =SUM(D25:O25) -> 36300 | D25: =D24*1650 -> 1650 | E25: =E24*1650 -> 1650 | F25: =F24*1650 -> 0 | G25: =G24*1650 -> 1650 | H25: =H24*1650 -> 3300 | I25: =I24*1650 -> 3300 | J25: =J24*1650 -> 3300 | K25: =K24*1650 -> 1650 | ... O25: =O24*1650 -> 6600
B26: TOTAL HORAS A FINANC.C/TRANSF.NIVEL CENTRAL (J) + (K) = (L) | C26: =SUM(D26:O26) -> 36300 | D26: =D25 -> 1650 | E26: =E25 -> 1650 | F26: =F25 -> 0 | G26: =G25 -> 1650 | H26: =H25 -> 3300 | I26: =I25 -> 3300 | J26: =J25 -> 3300 | K26: =K25 -> 1650 | ... O26: =O25 -> 6600
B28: IV. HORAS DE TRABAJO PERSONAL CON HORAS DE TRABAJO FINANCIADAS CON SERUMS RENTADO
B29: N° DE TRABAJADORES CONSIDERADOS (M) | C29: =SUM(D29:O29) -> 1 | D29: 1
